BEGIN:VCALENDAR
VERSION:2.0
PRODID:-//Mr Js Havana Cigar Lounge - ECPv6.15.7//NONSGML v1.0//EN
CALSCALE:GREGORIAN
METHOD:PUBLISH
X-WR-CALNAME:Mr Js Havana Cigar Lounge
X-ORIGINAL-URL:https://mrjshavanacigarlounge.com
X-WR-CALDESC:Events for Mr Js Havana Cigar Lounge
REFRESH-INTERVAL;VALUE=DURATION:PT1H
X-Robots-Tag:noindex
X-PUBLISHED-TTL:PT1H
BEGIN:VTIMEZONE
TZID:America/New_York
BEGIN:DAYLIGHT
TZOFFSETFROM:-0500
TZOFFSETTO:-0400
TZNAME:EDT
DTSTART:20240310T070000
END:DAYLIGHT
BEGIN:STANDARD
TZOFFSETFROM:-0400
TZOFFSETTO:-0500
TZNAME:EST
DTSTART:20241103T060000
END:STANDARD
BEGIN:DAYLIGHT
TZOFFSETFROM:-0500
TZOFFSETTO:-0400
TZNAME:EDT
DTSTART:20250309T070000
END:DAYLIGHT
BEGIN:STANDARD
TZOFFSETFROM:-0400
TZOFFSETTO:-0500
TZNAME:EST
DTSTART:20251102T060000
END:STANDARD
BEGIN:DAYLIGHT
TZOFFSETFROM:-0500
TZOFFSETTO:-0400
TZNAME:EDT
DTSTART:20260308T070000
END:DAYLIGHT
BEGIN:STANDARD
TZOFFSETFROM:-0400
TZOFFSETTO:-0500
TZNAME:EST
DTSTART:20261101T060000
END:STANDARD
END:VTIMEZONE
BEGIN:VEVENT
DTSTART;TZID=America/New_York:20251110T180000
DTEND;TZID=America/New_York:20251110T213000
DTSTAMP:20260420T032509
CREATED:20251006T113028Z
LAST-MODIFIED:20251101T171530Z
UID:2052-1762797600-1762810200@mrjshavanacigarlounge.com
SUMMARY:Thanksgiving Dinner w/ HVC Cigars
DESCRIPTION:Join us November 10 at 6PM for the annual Thanksgiving Dinner. Reinier Lorenzo\, the owner of HVC Cigars will be with us alongside regional HVC Rep Nick Goss! If you’ve been a customer for any length of time\, you know that we stand behind HVC and even have a Mr J’s exclusive cigar with them. Come enjoy some fantastic food by Meal Works and have a great time!
URL:https://mrjshavanacigarlounge.com/event/thanksgiving-dinner-w-hvc-cigars/
CATEGORIES:Dinners
END:VEVENT
BEGIN:VEVENT
DTSTART;VALUE=DATE:20251111
DTEND;VALUE=DATE:20251112
DTSTAMP:20260420T032509
CREATED:20251101T171839Z
LAST-MODIFIED:20251101T172023Z
UID:2058-1762819200-1762905599@mrjshavanacigarlounge.com
SUMMARY:Veterans Day
DESCRIPTION:All day on November 11\, all active and retired Armed Service Members will receive one free J Grotto Cigar and one free draft. We appreciate you and thank you for your service.
URL:https://mrjshavanacigarlounge.com/event/2058/
CATEGORIES:Event
END:VEVENT
BEGIN:VEVENT
DTSTART;VALUE=DATE:20251127
DTEND;VALUE=DATE:20251128
DTSTAMP:20260420T032509
CREATED:20251123T181211Z
LAST-MODIFIED:20251106T151728Z
UID:2065-1764201600-1764287999@mrjshavanacigarlounge.com
SUMMARY:Thanksgiving
DESCRIPTION:Mr. J’s is closed for Thanksgiving and will re-open at normal hours at 10:00am on Friday 11/28.
URL:https://mrjshavanacigarlounge.com/event/2065/
CATEGORIES:Event
END:VEVENT
END:VCALENDAR