BEGIN:VCALENDAR
VERSION:2.0
PRODID:-//Mr Js Havana Cigar Lounge - ECPv6.15.7//NONSGML v1.0//EN
CALSCALE:GREGORIAN
METHOD:PUBLISH
X-ORIGINAL-URL:https://mrjshavanacigarlounge.com
X-WR-CALDESC:Events for Mr Js Havana Cigar Lounge
REFRESH-INTERVAL;VALUE=DURATION:PT1H
X-Robots-Tag:noindex
X-PUBLISHED-TTL:PT1H
BEGIN:VTIMEZONE
TZID:America/New_York
BEGIN:DAYLIGHT
TZOFFSETFROM:-0500
TZOFFSETTO:-0400
TZNAME:EDT
DTSTART:20230312T070000
END:DAYLIGHT
BEGIN:STANDARD
TZOFFSETFROM:-0400
TZOFFSETTO:-0500
TZNAME:EST
DTSTART:20231105T060000
END:STANDARD
BEGIN:DAYLIGHT
TZOFFSETFROM:-0500
TZOFFSETTO:-0400
TZNAME:EDT
DTSTART:20240310T070000
END:DAYLIGHT
BEGIN:STANDARD
TZOFFSETFROM:-0400
TZOFFSETTO:-0500
TZNAME:EST
DTSTART:20241103T060000
END:STANDARD
BEGIN:DAYLIGHT
TZOFFSETFROM:-0500
TZOFFSETTO:-0400
TZNAME:EDT
DTSTART:20250309T070000
END:DAYLIGHT
BEGIN:STANDARD
TZOFFSETFROM:-0400
TZOFFSETTO:-0500
TZNAME:EST
DTSTART:20251102T060000
END:STANDARD
END:VTIMEZONE
BEGIN:VEVENT
DTSTART;TZID=America/New_York:20240530T080000
DTEND;TZID=America/New_York:20240925T230000
DTSTAMP:20260425T141457
CREATED:20240530T122353Z
LAST-MODIFIED:20240827T020625Z
UID:1695-1717056000-1727305200@mrjshavanacigarlounge.com
SUMMARY:2024 Summer Cocktail Menu
DESCRIPTION:Premiering Thursday\, May 30 – our new specialty summer cocktails!
URL:https://mrjshavanacigarlounge.com/event/2024-summer-cocktail-menu/
END:VEVENT
BEGIN:VEVENT
DTSTART;TZID=America/New_York:20240817T120000
DTEND;TZID=America/New_York:20240817T200000
DTSTAMP:20260425T141457
CREATED:20240713T161624Z
LAST-MODIFIED:20240809T133959Z
UID:1723-1723896000-1723924800@mrjshavanacigarlounge.com
SUMMARY:2nd Annual Golf Tournament
DESCRIPTION:  \n \nRESCHEDULED to Saturday\, August 17\, due to rainy weather! Join Mr. J’s for our 2nd Annual Golf Tournament at Coventry Pines. \nMembers ticket on sale July 13. Public ticket available July 20.
URL:https://mrjshavanacigarlounge.com/event/2nd-annual-golf-tournament/
CATEGORIES:Event
END:VEVENT
BEGIN:VEVENT
DTSTART;TZID=America/New_York:20240818T120000
DTEND;TZID=America/New_York:20240818T170000
DTSTAMP:20260425T141457
CREATED:20240730T042256Z
LAST-MODIFIED:20240730T042831Z
UID:1727-1723982400-1724000400@mrjshavanacigarlounge.com
SUMMARY:August Food Truck Fest with WCTK
DESCRIPTION:Don’t drive by without stopping!! Gather in our parking lot and enjoy amazing specialties from local food trucks. And join in the fun as WCTK makes a special appearance at the lounge from 2-4pm.
URL:https://mrjshavanacigarlounge.com/event/august-food-truck-fest-with-wctk/
CATEGORIES:Event
END:VEVENT
END:VCALENDAR