BEGIN:VCALENDAR
VERSION:2.0
PRODID:-//Mr Js Havana Cigar Lounge - ECPv6.15.7//NONSGML v1.0//EN
CALSCALE:GREGORIAN
METHOD:PUBLISH
X-WR-CALNAME:Mr Js Havana Cigar Lounge
X-ORIGINAL-URL:https://mrjshavanacigarlounge.com
X-WR-CALDESC:Events for Mr Js Havana Cigar Lounge
REFRESH-INTERVAL;VALUE=DURATION:PT1H
X-Robots-Tag:noindex
X-PUBLISHED-TTL:PT1H
BEGIN:VTIMEZONE
TZID:America/New_York
BEGIN:DAYLIGHT
TZOFFSETFROM:-0500
TZOFFSETTO:-0400
TZNAME:EDT
DTSTART:20230312T070000
END:DAYLIGHT
BEGIN:STANDARD
TZOFFSETFROM:-0400
TZOFFSETTO:-0500
TZNAME:EST
DTSTART:20231105T060000
END:STANDARD
BEGIN:DAYLIGHT
TZOFFSETFROM:-0500
TZOFFSETTO:-0400
TZNAME:EDT
DTSTART:20240310T070000
END:DAYLIGHT
BEGIN:STANDARD
TZOFFSETFROM:-0400
TZOFFSETTO:-0500
TZNAME:EST
DTSTART:20241103T060000
END:STANDARD
BEGIN:DAYLIGHT
TZOFFSETFROM:-0500
TZOFFSETTO:-0400
TZNAME:EDT
DTSTART:20250309T070000
END:DAYLIGHT
BEGIN:STANDARD
TZOFFSETFROM:-0400
TZOFFSETTO:-0500
TZNAME:EST
DTSTART:20251102T060000
END:STANDARD
BEGIN:DAYLIGHT
TZOFFSETFROM:-0500
TZOFFSETTO:-0400
TZNAME:EDT
DTSTART:20260308T070000
END:DAYLIGHT
BEGIN:STANDARD
TZOFFSETFROM:-0400
TZOFFSETTO:-0500
TZNAME:EST
DTSTART:20261101T060000
END:STANDARD
END:VTIMEZONE
BEGIN:VEVENT
DTSTART;TZID=America/New_York:20241201T120000
DTEND;TZID=America/New_York:20250326T230000
DTSTAMP:20260420T235430
CREATED:20241201T132801Z
LAST-MODIFIED:20250323T191846Z
UID:1812-1733054400-1743030000@mrjshavanacigarlounge.com
SUMMARY:Winter Cocktail Menu
DESCRIPTION:Our new Seasonal Cocktail Menu arrives in December and lasts through the winter months. Come on into Mr. J’s and ask our bartenders for one of these delicious cocktails.
URL:https://mrjshavanacigarlounge.com/event/winter-cocktail-menu/
END:VEVENT
BEGIN:VEVENT
DTSTART;TZID=America/New_York:20250301T200000
DTEND;TZID=America/New_York:20250329T230000
DTSTAMP:20260420T235430
CREATED:20250225T173352Z
LAST-MODIFIED:20250427T164922Z
UID:1882-1740859200-1743289200@mrjshavanacigarlounge.com
SUMMARY:Live Music Saturday Nights - March
DESCRIPTION:What are you doing on Saturday night? Join us at the lounge in March from 8-11pm for live acoustic performances from awesome local musicians! Enjoy a fun night out at Mr. J’s with good friends. No cover charge.
URL:https://mrjshavanacigarlounge.com/event/live-music-saturday-nights-march/
CATEGORIES:Music
END:VEVENT
BEGIN:VEVENT
DTSTART;TZID=America/New_York:20250302T120000
DTEND;TZID=America/New_York:20250302T170000
DTSTAMP:20260420T235430
CREATED:20250203T205948Z
LAST-MODIFIED:20250221T034104Z
UID:1857-1740916800-1740934800@mrjshavanacigarlounge.com
SUMMARY:Spring Game Dinner
DESCRIPTION:Our Spring Game Dinner features a 6-course menu and 3 Illusione cigars. Don’t wait to get your ticket! Members ticket on sale February 3; public ticket available on February 10. Tickets must be purchased in advance. \nUPDATE: This event is SOLD OUT! Mr. J’s will be closed from 12noon to 6pm on Sunday\, March 2\, for this event. Our lounge and humidor will open to the public at 6pm.
URL:https://mrjshavanacigarlounge.com/event/spring-game-dinner/
CATEGORIES:Dinners
END:VEVENT
END:VCALENDAR