BEGIN:VCALENDAR
VERSION:2.0
PRODID:-//Mr Js Havana Cigar Lounge - ECPv6.15.7//NONSGML v1.0//EN
CALSCALE:GREGORIAN
METHOD:PUBLISH
X-WR-CALNAME:Mr Js Havana Cigar Lounge
X-ORIGINAL-URL:https://mrjshavanacigarlounge.com
X-WR-CALDESC:Events for Mr Js Havana Cigar Lounge
REFRESH-INTERVAL;VALUE=DURATION:PT1H
X-Robots-Tag:noindex
X-PUBLISHED-TTL:PT1H
BEGIN:VTIMEZONE
TZID:America/New_York
BEGIN:DAYLIGHT
TZOFFSETFROM:-0500
TZOFFSETTO:-0400
TZNAME:EDT
DTSTART:20230312T070000
END:DAYLIGHT
BEGIN:STANDARD
TZOFFSETFROM:-0400
TZOFFSETTO:-0500
TZNAME:EST
DTSTART:20231105T060000
END:STANDARD
BEGIN:DAYLIGHT
TZOFFSETFROM:-0500
TZOFFSETTO:-0400
TZNAME:EDT
DTSTART:20240310T070000
END:DAYLIGHT
BEGIN:STANDARD
TZOFFSETFROM:-0400
TZOFFSETTO:-0500
TZNAME:EST
DTSTART:20241103T060000
END:STANDARD
BEGIN:DAYLIGHT
TZOFFSETFROM:-0500
TZOFFSETTO:-0400
TZNAME:EDT
DTSTART:20250309T070000
END:DAYLIGHT
BEGIN:STANDARD
TZOFFSETFROM:-0400
TZOFFSETTO:-0500
TZNAME:EST
DTSTART:20251102T060000
END:STANDARD
END:VTIMEZONE
BEGIN:VEVENT
DTSTART;TZID=America/New_York:20240926T120000
DTEND;TZID=America/New_York:20241130T233000
DTSTAMP:20260421T130607
CREATED:20240925T193305Z
LAST-MODIFIED:20241201T133030Z
UID:1752-1727352000-1733009400@mrjshavanacigarlounge.com
SUMMARY:Fall Cocktail Menu
DESCRIPTION:Our 2024 Fall Specialty Cocktail Menu premieres on Thursday\, September 26! Enjoy a taste of autumn with a Ginger Pear Mule\, Fall Margarita\, Maple Smoked Old Fashioned or Pumpkin Pie Martini.
URL:https://mrjshavanacigarlounge.com/event/fall-cocktail-menu/
END:VEVENT
BEGIN:VEVENT
DTSTART;TZID=America/New_York:20241112T180000
DTEND;TZID=America/New_York:20241112T210000
DTSTAMP:20260421T130607
CREATED:20241029T125015Z
LAST-MODIFIED:20241030T044133Z
UID:1783-1731434400-1731445200@mrjshavanacigarlounge.com
SUMMARY:Holiday Paint Night
DESCRIPTION:Calling all artists! Enjoy a holiday inspired paint night with Liz and create your own ornaments to keep for yourself or give as a gift. \nTickets must be purchased in advance and are on sale October 30. This fun event is limited to 20 guests.
URL:https://mrjshavanacigarlounge.com/event/holiday-paint-night/
CATEGORIES:Canvas and Cocktails
END:VEVENT
END:VCALENDAR