BEGIN:VCALENDAR
VERSION:2.0
PRODID:-//Mr Js Havana Cigar Lounge - ECPv6.15.7//NONSGML v1.0//EN
CALSCALE:GREGORIAN
METHOD:PUBLISH
X-ORIGINAL-URL:https://mrjshavanacigarlounge.com
X-WR-CALDESC:Events for Mr Js Havana Cigar Lounge
REFRESH-INTERVAL;VALUE=DURATION:PT1H
X-Robots-Tag:noindex
X-PUBLISHED-TTL:PT1H
BEGIN:VTIMEZONE
TZID:America/New_York
BEGIN:DAYLIGHT
TZOFFSETFROM:-0500
TZOFFSETTO:-0400
TZNAME:EDT
DTSTART:20230312T070000
END:DAYLIGHT
BEGIN:STANDARD
TZOFFSETFROM:-0400
TZOFFSETTO:-0500
TZNAME:EST
DTSTART:20231105T060000
END:STANDARD
BEGIN:DAYLIGHT
TZOFFSETFROM:-0500
TZOFFSETTO:-0400
TZNAME:EDT
DTSTART:20240310T070000
END:DAYLIGHT
BEGIN:STANDARD
TZOFFSETFROM:-0400
TZOFFSETTO:-0500
TZNAME:EST
DTSTART:20241103T060000
END:STANDARD
BEGIN:DAYLIGHT
TZOFFSETFROM:-0500
TZOFFSETTO:-0400
TZNAME:EDT
DTSTART:20250309T070000
END:DAYLIGHT
BEGIN:STANDARD
TZOFFSETFROM:-0400
TZOFFSETTO:-0500
TZNAME:EST
DTSTART:20251102T060000
END:STANDARD
END:VTIMEZONE
BEGIN:VEVENT
DTSTART;TZID=America/New_York:20240530T080000
DTEND;TZID=America/New_York:20240925T230000
DTSTAMP:20260425T173100
CREATED:20240530T122353Z
LAST-MODIFIED:20240827T020625Z
UID:1695-1717056000-1727305200@mrjshavanacigarlounge.com
SUMMARY:2024 Summer Cocktail Menu
DESCRIPTION:Premiering Thursday\, May 30 – our new specialty summer cocktails!
URL:https://mrjshavanacigarlounge.com/event/2024-summer-cocktail-menu/
END:VEVENT
BEGIN:VEVENT
DTSTART;TZID=America/New_York:20240714T120000
DTEND;TZID=America/New_York:20240714T170000
DTSTAMP:20260425T173100
CREATED:20240629T223934Z
LAST-MODIFIED:20240629T223934Z
UID:1715-1720958400-1720976400@mrjshavanacigarlounge.com
SUMMARY:Food Truck Sunday
DESCRIPTION:Good eats and sweet treats at Mr. J’s on July 14. Bring your appetite and enjoy Smoke Shack BBQ\, Casa Tia Rosa Portuguese food\, Saugy Dogs\, and Atomic Blonde Icecream on a summer Sunday afternoon.
URL:https://mrjshavanacigarlounge.com/event/food-truck-sunday/
CATEGORIES:Event
END:VEVENT
END:VCALENDAR